BEGIN:VCALENDAR
VERSION:1.0
PRODID:Open2CKalenderExportV11
BEGIN:VEVENT
DTSTAMP:20260313T113627Z
DTSTART:20261127T000000Z
DTEND:20261127T000000Z
SUMMARY:Gemeinde Bindlach, Gemeindlicher Ehrungsabend, Bärenhalle
DESCRIPTION:Gemeinde Bindlach, Gemeindlicher Ehrungsabend, Bärenhalle
LOCATION:
UID:13b2f2c550da56db36a5140ffb370e4d-bac93e51c18072cc0ad46030f5cc89c1
PRIORITY:3
END:VEVENT
END:VCALENDAR
