BEGIN:VCALENDAR
VERSION:1.0
PRODID:Open2CKalenderExportV11
BEGIN:VEVENT
DTSTAMP:20260313T113638Z
DTSTART:20261128T000000Z
DTEND:20261128T000000Z
SUMMARY:Evang. Kirche Bindlach, Taufblattgottesdienst
DESCRIPTION:Evang. Kirche Bindlach, Taufblattgottesdienst
LOCATION:
UID:41539669b6ab4b5b0aa58549f6fa8a2b-1e7febfd22c5ab6b0a539a9aa13f11d6
PRIORITY:3
END:VEVENT
END:VCALENDAR
