BEGIN:VCALENDAR
VERSION:1.0
PRODID:Open2CKalenderExportV11
BEGIN:VEVENT
DTSTAMP:20260313T113654Z
DTSTART:20261129T000000Z
DTEND:20261129T000000Z
SUMMARY:Benker Dorfvereine, Adventsmarkt
DESCRIPTION:Benker Dorfvereine, Adventsmark
LOCATION:
UID:5c54a497d7301472638d7beefd5197f8-32d9e26263b9824fcbd6176f70ea4bc1
PRIORITY:3
END:VEVENT
END:VCALENDAR
