BEGIN:VCALENDAR
VERSION:1.0
PRODID:Open2CKalenderExportV11
BEGIN:VEVENT
DTSTAMP:20260313T113708Z
DTSTART:20261205T000000Z
DTEND:20261205T000000Z
SUMMARY:VdK, Weihnachtsfeier, Gaststätte Bock
DESCRIPTION:VdK, Weihnachtsfeier, Gaststätte Bock
LOCATION:
UID:fd36212fa73f373cd5fa09d39e63feb1-e79a92f533cb9e2a402641406ef09977
PRIORITY:3
END:VEVENT
END:VCALENDAR
