BEGIN:VCALENDAR
VERSION:1.0
PRODID:Open2CKalenderExportV11
BEGIN:VEVENT
DTSTAMP:20260313T113720Z
DTSTART:20261206T000000Z
DTEND:20261206T000000Z
SUMMARY:Gemeinde Bindlach, Gemeindlicher Adventsmarkt
DESCRIPTION:Gemeinde Bindlach, Gemeindlicher Adventsmarkt
LOCATION:
UID:5088d7f76cf47e3fddc6e9dc281122c5-28582290efe8a0e342153e1c323f25be
PRIORITY:3
END:VEVENT
END:VCALENDAR
