BEGIN:VCALENDAR
VERSION:1.0
PRODID:Open2CKalenderExportV11
BEGIN:VEVENT
DTSTAMP:20260313T113733Z
DTSTART:20261210T000000Z
DTEND:20261210T000000Z
SUMMARY:CSU Bindlach, After-Work, Pfitschn
DESCRIPTION:CSU Bindlach, After-Work, Pfitschn
LOCATION:
UID:9667ef26d87a542e7cf3cf28cee980bd-c65e8a70cae1f71d9e1e67d8df6f22c4
PRIORITY:3
END:VEVENT
END:VCALENDAR
