BEGIN:VCALENDAR
VERSION:1.0
PRODID:Open2CKalenderExportV11
BEGIN:VEVENT
DTSTAMP:20260313T113746Z
DTSTART:20261212T000000Z
DTEND:20261212T000000Z
SUMMARY:Evang. Kirche Bindlach, Konzert der Chöre
DESCRIPTION:Evang. Kirche Bindlach, Konzert der Chöre
LOCATION:
UID:cf3d57758cedd50f9b11da3b85ad744e-ba56ce88ac11f31d92342b884decb9da
PRIORITY:3
END:VEVENT
END:VCALENDAR
