BEGIN:VCALENDAR
VERSION:1.0
PRODID:Open2CKalenderExportV11
BEGIN:VEVENT
DTSTAMP:20260313T113825Z
DTSTART:20261213T000000Z
DTEND:20261213T000000Z
SUMMARY:Gemeinde Bindlach, Weihnachtsfeier 65+, Bärenhalle
DESCRIPTION:Gemeinde Bindlach, Weihnachtsfeier 65+, Bärenhalle
LOCATION:
UID:8c06427f1eee6511c2d5c1c9e92ab144-1c60a037505cd74da1985e382a1f8365
PRIORITY:3
END:VEVENT
END:VCALENDAR
