BEGIN:VCALENDAR
VERSION:2.0
PRODID:< http://www.open2c.de/ >
METHOD:PUBLISH
X-PUBLISHED-TTL:PT12H
BEGIN:VTIMEZONE
TZID:Europe/Berlin
TZURL:http://tzurl.org/zoneinfo-outlook/Europe/Berlin
X-LIC-LOCATION:Europe/Berlin
CALSCALE:GREGORIAN
BEGIN:DAYLIGHT
TZOFFSETFROM:+0100
TZOFFSETTO:+0200
TZNAME:CEST
DTSTART:19700329T020000
RRULE:FREQ=YEARLY;BYMONTH=3;BYDAY=-1SU
END:DAYLIGHT
BEGIN:STANDARD
TZOFFSETFROM:+0200
TZOFFSETTO:+0100
TZNAME:CET
DTSTART:19701025T030000
RRULE:FREQ=YEARLY;BYMONTH=10;BYDAY=-1SU
END:STANDARD
END:VTIMEZONE
BEGIN:VEVENT
CREATED:20260313T121221
LAST-MODIFIED:20260313T121238
DTSTAMP:20260425T161306Z
DTSTART;TZID=Europe/Berlin:20260425T000000
DTEND;TZID=Europe/Berlin:20260426T000000
SUMMARY:Brettspielverein\, Brettspieltage\, Bärenhalle
DESCRIPTION:Brettspielverein\, Brettspieltage\, Bärenhalle
UID:04c85bc38570390e27e2f256c861051e@c212e476e44c3e77b7453206d264ee80
END:VEVENT
END:VCALENDAR