BEGIN:VCALENDAR
VERSION:2.0
PRODID:< http://www.open2c.de/ >
METHOD:PUBLISH
X-PUBLISHED-TTL:PT12H
BEGIN:VTIMEZONE
TZID:Europe/Berlin
TZURL:http://tzurl.org/zoneinfo-outlook/Europe/Berlin
X-LIC-LOCATION:Europe/Berlin
CALSCALE:GREGORIAN
BEGIN:DAYLIGHT
TZOFFSETFROM:+0100
TZOFFSETTO:+0200
TZNAME:CEST
DTSTART:19700329T020000
RRULE:FREQ=YEARLY;BYMONTH=3;BYDAY=-1SU
END:DAYLIGHT
BEGIN:STANDARD
TZOFFSETFROM:+0200
TZOFFSETTO:+0100
TZNAME:CET
DTSTART:19701025T030000
RRULE:FREQ=YEARLY;BYMONTH=10;BYDAY=-1SU
END:STANDARD
END:VTIMEZONE
BEGIN:VEVENT
CREATED:20260313T122045
LAST-MODIFIED:20260313T122101
DTSTAMP:20260425T160532Z
DTSTART;TZID=Europe/Berlin:20260508T000000
DTEND;TZID=Europe/Berlin:20260510T000000
SUMMARY:SFV Bindlach\, Meisterschaftsveranstaltung\, Bärenhalle
DESCRIPTION:SFV Bindlach\, Meisterschaftsveranstaltung\, Bärenhalle
UID:972ae5eb760b0194a24a8544ab86fdd0@c212e476e44c3e77b7453206d264ee80
END:VEVENT
END:VCALENDAR